BEGIN:VCALENDAR
VERSION:2.0
PRODID:-//Knokr//Festival//EN
BEGIN:VEVENT
DTSTART;VALUE=DATE:20260821
DTEND;VALUE=DATE:20260823
SUMMARY:Wheatstock
LOCATION:Helix, United States
URL:https://www.wheatstock.org/
END:VEVENT
END:VCALENDAR