BEGIN:VCALENDAR
VERSION:2.0
PRODID:-//Knokr//Festival//EN
BEGIN:VEVENT
DTSTART;VALUE=DATE:20260619
DTEND;VALUE=DATE:20260622
SUMMARY:Unearthed Festival
LOCATION:St. David's, United Kingdom
URL:https://www.unearthedfestival.co.uk/
END:VEVENT
END:VCALENDAR