BEGIN:VCALENDAR
VERSION:2.0
PRODID:-//Knokr//Festival//EN
BEGIN:VEVENT
DTSTART;VALUE=DATE:20260614
DTEND;VALUE=DATE:20260817
SUMMARY:Stern Grove Festival
LOCATION:San Francisco, United States
URL:https://www.sterngrove.org/
END:VEVENT
END:VCALENDAR