BEGIN:VCALENDAR
VERSION:2.0
PRODID:-//Knokr//Festival//EN
BEGIN:VEVENT
DTSTART;VALUE=DATE:20260702
DTEND;VALUE=DATE:20260703
SUMMARY:Soho House Festival
LOCATION:London, United Kingdom
URL:https://www.sohohouse.com/en-us/house-notes/issue-006/events/soho-house-festival-2026
END:VEVENT
END:VCALENDAR