BEGIN:VCALENDAR
VERSION:2.0
PRODID:-//Knokr//Festival//EN
BEGIN:VEVENT
DTSTART;VALUE=DATE:20260717
DTEND;VALUE=DATE:20260719
SUMMARY:Rock Herk
LOCATION:Herk-de-Stad, Belgium
URL:https://rockherk.be/en
END:VEVENT
END:VCALENDAR