BEGIN:VCALENDAR
VERSION:2.0
PRODID:-//Knokr//Festival//EN
BEGIN:VEVENT
DTSTART;VALUE=DATE:20260523
DTEND;VALUE=DATE:20260526
SUMMARY:Ribs & Blues Raalte
LOCATION:Raalte, Netherlands
URL:https://ribsenblues.nl
END:VEVENT
END:VCALENDAR