BEGIN:VCALENDAR
VERSION:2.0
PRODID:-//Knokr//Festival//EN
BEGIN:VEVENT
DTSTART;VALUE=DATE:20261016
DTEND;VALUE=DATE:20261018
SUMMARY:Redwest Country Festival 
LOCATION:Salt Lake City, United States
URL:https://www.redwestslc.com/
END:VEVENT
END:VCALENDAR