BEGIN:VCALENDAR
VERSION:2.0
PRODID:-//Knokr//Festival//EN
BEGIN:VEVENT
DTSTART;VALUE=DATE:20260603
DTEND;VALUE=DATE:20260831
SUMMARY:Poney Club
LOCATION:Blagnac, France
URL:https://www.poneyclubtoulouse.fr/
END:VEVENT
END:VCALENDAR