BEGIN:VCALENDAR
VERSION:2.0
PRODID:-//Knokr//Festival//EN
BEGIN:VEVENT
DTSTART;VALUE=DATE:20261008
DTEND;VALUE=DATE:20261011
SUMMARY:Moonshiner's Ball
LOCATION:Livingston, United States
URL:https://themoonshinersball.com/
END:VEVENT
END:VCALENDAR