BEGIN:VCALENDAR
VERSION:2.0
PRODID:-//Knokr//Festival//EN
BEGIN:VEVENT
DTSTART;VALUE=DATE:20260423
DTEND;VALUE=DATE:20260425
SUMMARY:LA Semana Alegre
LOCATION:San Antonio, United States
URL:https://lasemanaalegre.com/
END:VEVENT
END:VCALENDAR