BEGIN:VCALENDAR
VERSION:2.0
PRODID:-//Knokr//Festival//EN
BEGIN:VEVENT
DTSTART;VALUE=DATE:20261016
DTEND;VALUE=DATE:20261018
SUMMARY:III Points
LOCATION:Miami, United States
URL:https://www.iiipoints.com
END:VEVENT
END:VCALENDAR