BEGIN:VCALENDAR
VERSION:2.0
PRODID:-//Knokr//Festival//EN
BEGIN:VEVENT
DTSTART;VALUE=DATE:20261009
DTEND;VALUE=DATE:20261011
SUMMARY:FORM Arcosanti
LOCATION:Arcosanti, United States
URL:https://www.experienceform.com
END:VEVENT
END:VCALENDAR