BEGIN:VCALENDAR
VERSION:2.0
PRODID:-//Knokr//Festival//EN
BEGIN:VEVENT
DTSTART;VALUE=DATE:20260815
DTEND;VALUE=DATE:20260816
SUMMARY:Dale MiXX
LOCATION:Monterrey, Mexico
URL:https://www.dalemixx.com.mx/en
END:VEVENT
END:VCALENDAR