BEGIN:VCALENDAR
VERSION:2.0
PRODID:-//Knokr//Festival//EN
BEGIN:VEVENT
DTSTART;VALUE=DATE:20261002
DTEND;VALUE=DATE:20261004
SUMMARY:Country Calling
LOCATION:Ocean City, United States
URL:https://www.countrycallingfestival.com/
END:VEVENT
END:VCALENDAR