BEGIN:VCALENDAR
VERSION:2.0
PRODID:-//Knokr//Festival//EN
BEGIN:VEVENT
DTSTART;VALUE=DATE:20260926
DTEND;VALUE=DATE:20260927
SUMMARY:CBGB Festival
LOCATION:Brooklyn, United States
URL:https://cbgbfest.com/
END:VEVENT
END:VCALENDAR