BEGIN:VCALENDAR
VERSION:2.0
PRODID:-//Knokr//Festival//EN
BEGIN:VEVENT
DTSTART;VALUE=DATE:20260723
DTEND;VALUE=DATE:20260726
SUMMARY:Brisa Festival
LOCATION:Malaga, Spain
URL:https://www.brisafestival.com/
END:VEVENT
END:VCALENDAR