BEGIN:VCALENDAR
VERSION:2.0
PRODID:-//Knokr//Festival//EN
BEGIN:VEVENT
DTSTART;VALUE=DATE:20260612
DTEND;VALUE=DATE:20260702
SUMMARY:Belsonic
LOCATION:Belfast, United Kingdom
URL:https://www.belsonic.com/
END:VEVENT
END:VCALENDAR