BEGIN:VCALENDAR
VERSION:2.0
PRODID:-//Knokr//Festival//EN
BEGIN:VEVENT
DTSTART;VALUE=DATE:20260710
DTEND;VALUE=DATE:20260712
SUMMARY:Beach Grind
LOCATION:Pärnu, Estonia
URL:https://www.beachgrind.ee/
END:VEVENT
END:VCALENDAR